BEGIN:VCALENDAR
VERSION:2.0
PRODID:-//Pócsi Angéla - ECPv6.15.17//NONSGML v1.0//EN
CALSCALE:GREGORIAN
METHOD:PUBLISH
X-ORIGINAL-URL:https://pocsiangela.hu
X-WR-CALDESC:Események Pócsi Angéla
REFRESH-INTERVAL;VALUE=DURATION:PT1H
X-Robots-Tag:noindex
X-PUBLISHED-TTL:PT1H
BEGIN:VTIMEZONE
TZID:Europe/Helsinki
BEGIN:DAYLIGHT
TZOFFSETFROM:+0200
TZOFFSETTO:+0300
TZNAME:EEST
DTSTART:20240331T010000
END:DAYLIGHT
BEGIN:STANDARD
TZOFFSETFROM:+0300
TZOFFSETTO:+0200
TZNAME:EET
DTSTART:20241027T010000
END:STANDARD
BEGIN:DAYLIGHT
TZOFFSETFROM:+0200
TZOFFSETTO:+0300
TZNAME:EEST
DTSTART:20250330T010000
END:DAYLIGHT
BEGIN:STANDARD
TZOFFSETFROM:+0300
TZOFFSETTO:+0200
TZNAME:EET
DTSTART:20251026T010000
END:STANDARD
BEGIN:DAYLIGHT
TZOFFSETFROM:+0200
TZOFFSETTO:+0300
TZNAME:EEST
DTSTART:20260329T010000
END:DAYLIGHT
BEGIN:STANDARD
TZOFFSETFROM:+0300
TZOFFSETTO:+0200
TZNAME:EET
DTSTART:20261025T010000
END:STANDARD
END:VTIMEZONE
BEGIN:VEVENT
DTSTART;TZID=Europe/Helsinki:20251210T170000
DTEND;TZID=Europe/Helsinki:20251210T180000
DTSTAMP:20260425T185731
CREATED:20251118T141829Z
LAST-MODIFIED:20251120T052727Z
UID:1938-1765386000-1765389600@pocsiangela.hu
SUMMARY:Jógaelméleti előadás
DESCRIPTION:Jógaelméleti előadás 📖 \nEgy inspiráló\, közös tanulásra és elmélkedésre hívó este\, ahol a jógafilozófia\, a tudat természete és a mindennapi gyakorlás mélyebb összefüggései kerülnek fókuszba. \n📅 Időpont: 2025. december 10. szerda 17:00–18:00\n📍 Helyszín: Életfa Test és Lélek Műhely – 1031 Budapest\, Ányos utca 7.\n💰 Részvételi díj: 3.500 Ft / alkalom\n👉 Jelentkezés: info@pocsiangela.hu\n💬 Ajánlott: azoknak\, akik szeretnék megérteni a jóga mélyebb rétegeit
URL:https://pocsiangela.hu/event/jogaelmeleti-eloadas-12-10/
LOCATION:Életfa Test és Lélek Műhely\, Ányos utca 7.\, Budapest\, 1031\, Hungary
CATEGORIES:Előadás
ATTACH;FMTTYPE=image/jpeg:https://pocsiangela.hu/wp-content/uploads/2025/10/Pocsi_Angela_Jogaelmelet_1_ff_300x300.jpg
ORGANIZER;CN="P%C3%B3csi Ang%C3%A9la":MAILTO:info@pocsiangela.hu
END:VEVENT
BEGIN:VEVENT
DTSTART;TZID=Europe/Helsinki:20251126T170000
DTEND;TZID=Europe/Helsinki:20251126T180000
DTSTAMP:20260425T185731
CREATED:20251028T193558Z
LAST-MODIFIED:20251120T052850Z
UID:1627-1764176400-1764180000@pocsiangela.hu
SUMMARY:Jógaelméleti előadás
DESCRIPTION:Jógaelméleti előadás 📖 \nEgy inspiráló\, közös tanulásra és elmélkedésre hívó este\, ahol a jógafilozófia\, a tudat természete és a mindennapi gyakorlás mélyebb összefüggései kerülnek fókuszba. \n📅 Időpont: minden páros héten szerdán 17:00–18:00\n📍 Helyszín: Életfa Test és Lélek Műhely – 1031 Budapest\, Ányos utca 7.\n💰 Részvételi díj: 3.500 Ft / alkalom\n👉 Jelentkezés: info@pocsiangela.hu\n💬 Ajánlott: azoknak\, akik szeretnék megérteni a jóga mélyebb rétegeit
URL:https://pocsiangela.hu/event/jogaelmeleti-eloadas-11-26/
LOCATION:Életfa Test és Lélek Műhely\, Ányos utca 7.\, Budapest\, 1031\, Hungary
CATEGORIES:Előadás
ATTACH;FMTTYPE=image/jpeg:https://pocsiangela.hu/wp-content/uploads/2025/10/Pocsi_Angela_Jogaelmelet_1_ff_300x300.jpg
ORGANIZER;CN="P%C3%B3csi Ang%C3%A9la":MAILTO:info@pocsiangela.hu
END:VEVENT
BEGIN:VEVENT
DTSTART;TZID=Europe/Helsinki:20251112T170000
DTEND;TZID=Europe/Helsinki:20251112T180000
DTSTAMP:20260425T185731
CREATED:20251028T193302Z
LAST-MODIFIED:20260130T192642Z
UID:1624-1762966800-1762970400@pocsiangela.hu
SUMMARY:Jógaelméleti előadás
DESCRIPTION:Jógaelméleti előadás 📖 \nEgy inspiráló\, közös tanulásra és elmélkedésre hívó este\, ahol a jógafilozófia\, a tudat természete és a mindennapi gyakorlás mélyebb összefüggései kerülnek fókuszba. \n📅 Időpont: minden páros héten szerdán 17:00–18:00\n📍 Helyszín: Életfa Test és Lélek Műhely – 1031 Budapest\, Ányos utca 7.\n💰 Részvételi díj: 3.500 Ft / alkalom\n👉 Jelentkezés: info@pocsiangela.hu\n💬 Ajánlott: azoknak\, akik szeretnék megérteni a jóga mélyebb rétegeit
URL:https://pocsiangela.hu/event/jogaelmeleti-eloadas-11-12/
LOCATION:Életfa Test és Lélek Műhely\, Ányos utca 7.\, Budapest\, 1031\, Hungary
CATEGORIES:Előadás
ATTACH;FMTTYPE=image/jpeg:https://pocsiangela.hu/wp-content/uploads/2025/10/Pocsi_Angela_Jogaelmelet_1_ff_300x300.jpg
ORGANIZER;CN="P%C3%B3csi Ang%C3%A9la":MAILTO:info@pocsiangela.hu
END:VEVENT
END:VCALENDAR